Workbook

Sheet Cost sheet (private)
A1: COST SHEET (PRIVATE: DO NOT SEND)
A2: Your costs per unit. The client quotation sheet picks up only the selling rate.
A4: Markup on cost (%) | D4: 0
A5: Type your own markup in the yellow cell above. It applies to every row.
A7: Item | B7: Description | C7: Unit | D7: Qty | E7: Material / unit | F7: Labour / unit | G7: Other / unit | H7: Cost rate | I7: Selling rate | J7: Amount (RM)
A8: 1.0 | B8: Preliminaries | C8: lot | D8: 1 | H8: =SUM(E8:G8) | I8: =IF(H8=0,0,ROUND(H8*(1+$D$4),2)) | J8: =D8*I8
H9: =SUM(E9:G9) | I9: =IF(H9=0,0,ROUND(H9*(1+$D$4),2)) | J9: =D9*I9
H10: =SUM(E10:G10) | I10: =IF(H10=0,0,ROUND(H10*(1+$D$4),2)) | J10: =D10*I10
H11: =SUM(E11:G11) | I11: =IF(H11=0,0,ROUND(H11*(1+$D$4),2)) | J11: =D11*I11
H12: =SUM(E12:G12) | I12: =IF(H12=0,0,ROUND(H12*(1+$D$4),2)) | J12: =D12*I12
H13: =SUM(E13:G13) | I13: =IF(H13=0,0,ROUND(H13*(1+$D$4),2)) | J13: =D13*I13
H14: =SUM(E14:G14) | I14: =IF(H14=0,0,ROUND(H14*(1+$D$4),2)) | J14: =D14*I14
H15: =SUM(E15:G15) | I15: =IF(H15=0,0,ROUND(H15*(1+$D$4),2)) | J15: =D15*I15
H16: =SUM(E16:G16) | I16: =IF(H16=0,0,ROUND(H16*(1+$D$4),2)) | J16: =D16*I16
H17: =SUM(E17:G17) | I17: =IF(H17=0,0,ROUND(H17*(1+$D$4),2)) | J17: =D17*I17
H18: =SUM(E18:G18) | I18: =IF(H18=0,0,ROUND(H18*(1+$D$4),2)) | J18: =D18*I18
H19: =SUM(E19:G19) | I19: =IF(H19=0,0,ROUND(H19*(1+$D$4),2)) | J19: =D19*I19
H20: =SUM(E20:G20) | I20: =IF(H20=0,0,ROUND(H20*(1+$D$4),2)) | J20: =D20*I20
... H37: =SUM(E37:G37) | I37: =IF(H37=0,0,ROUND(H37*(1+$D$4),2)) | J37: =D37*I37
I38: Total | J38: =SUM(J8:J37)

Sheet Quotation (client)
A1: QUOTATION
A3: From (your company)
A4: To (client)
A5: Project
A6: Quotation no.
A7: Date
A8: Valid for (days)
A10: Item | B10: Description | C10: Unit | D10: Qty | E10: Rate (RM) | F10: Amount (RM)
A11: =IF('Cost sheet (private)'!A8="","",'Cost sheet (private)'!A8) | B11: =IF('Cost sheet (private)'!B8="","",'Cost sheet (private)'!B8) | C11: =IF('Cost sheet (private)'!C8="","",'Cost sheet (private)'!C8) | D11: =IF('Cost sheet (private)'!D8="","",'Cost sheet (private)'!D8) | E11: =IF('Cost sheet (private)'!B8="","",'Cost sheet (private)'!I8) | F11: =IF('Cost sheet (private)'!B8="","",'Cost sheet (private)'!J8)
A12: =IF('Cost sheet (private)'!A9="","",'Cost sheet (private)'!A9) | B12: =IF('Cost sheet (private)'!B9="","",'Cost sheet (private)'!B9) | C12: =IF('Cost sheet (private)'!C9="","",'Cost sheet (private)'!C9) | D12: =IF('Cost sheet (private)'!D9="","",'Cost sheet (private)'!D9) | E12: =IF('Cost sheet (private)'!B9="","",'Cost sheet (private)'!I9) | F12: =IF('Cost sheet (private)'!B9="","",'Cost sheet (private)'!J9)
A13: =IF('Cost sheet (private)'!A10="","",'Cost sheet (private)'!A10) | B13: =IF('Cost sheet (private)'!B10="","",'Cost sheet (private)'!B10) | C13: =IF('Cost sheet (private)'!C10="","",'Cost sheet (private)'!C10) | D13: =IF('Cost sheet (private)'!D10="","",'Cost sheet (private)'!D10) | E13: =IF('Cost sheet (private)'!B10="","",'Cost sheet (private)'!I10) | F13: =IF('Cost sheet (private)'!B10="","",'Cost sheet (private)'!J10)
A14: =IF('Cost sheet (private)'!A11="","",'Cost sheet (private)'!A11) | B14: =IF('Cost sheet (private)'!B11="","",'Cost sheet (private)'!B11) | C14: =IF('Cost sheet (private)'!C11="","",'Cost sheet (private)'!C11) | D14: =IF('Cost sheet (private)'!D11="","",'Cost sheet (private)'!D11) | E14: =IF('Cost sheet (private)'!B11="","",'Cost sheet (private)'!I11) | F14: =IF('Cost sheet (private)'!B11="","",'Cost sheet (private)'!J11)
A15: =IF('Cost sheet (private)'!A12="","",'Cost sheet (private)'!A12) | B15: =IF('Cost sheet (private)'!B12="","",'Cost sheet (private)'!B12) | C15: =IF('Cost sheet (private)'!C12="","",'Cost sheet (private)'!C12) | D15: =IF('Cost sheet (private)'!D12="","",'Cost sheet (private)'!D12) | E15: =IF('Cost sheet (private)'!B12="","",'Cost sheet (private)'!I12) | F15: =IF('Cost sheet (private)'!B12="","",'Cost sheet (private)'!J12)
A16: =IF('Cost sheet (private)'!A13="","",'Cost sheet (private)'!A13) | B16: =IF('Cost sheet (private)'!B13="","",'Cost sheet (private)'!B13) | C16: =IF('Cost sheet (private)'!C13="","",'Cost sheet (private)'!C13) | D16: =IF('Cost sheet (private)'!D13="","",'Cost sheet (private)'!D13) | E16: =IF('Cost sheet (private)'!B13="","",'Cost sheet (private)'!I13) | F16: =IF('Cost sheet (private)'!B13="","",'Cost sheet (private)'!J13)
A17: =IF('Cost sheet (private)'!A14="","",'Cost sheet (private)'!A14) | B17: =IF('Cost sheet (private)'!B14="","",'Cost sheet (private)'!B14) | C17: =IF('Cost sheet (private)'!C14="","",'Cost sheet (private)'!C14) | D17: =IF('Cost sheet (private)'!D14="","",'Cost sheet (private)'!D14) | E17: =IF('Cost sheet (private)'!B14="","",'Cost sheet (private)'!I14) | F17: =IF('Cost sheet (private)'!B14="","",'Cost sheet (private)'!J14)
A18: =IF('Cost sheet (private)'!A15="","",'Cost sheet (private)'!A15) | B18: =IF('Cost sheet (private)'!B15="","",'Cost sheet (private)'!B15) | C18: =IF('Cost sheet (private)'!C15="","",'Cost sheet (private)'!C15) | D18: =IF('Cost sheet (private)'!D15="","",'Cost sheet (private)'!D15) | E18: =IF('Cost sheet (private)'!B15="","",'Cost sheet (private)'!I15) | F18: =IF('Cost sheet (private)'!B15="","",'Cost sheet (private)'!J15)
A19: =IF('Cost sheet (private)'!A16="","",'Cost sheet (private)'!A16) | B19: =IF('Cost sheet (private)'!B16="","",'Cost sheet (private)'!B16) | C19: =IF('Cost sheet (private)'!C16="","",'Cost sheet (private)'!C16) | D19: =IF('Cost sheet (private)'!D16="","",'Cost sheet (private)'!D16) | E19: =IF('Cost sheet (private)'!B16="","",'Cost sheet (private)'!I16) | F19: =IF('Cost sheet (private)'!B16="","",'Cost sheet (private)'!J16)
A20: =IF('Cost sheet (private)'!A17="","",'Cost sheet (private)'!A17) | B20: =IF('Cost sheet (private)'!B17="","",'Cost sheet (private)'!B17) | C20: =IF('Cost sheet (private)'!C17="","",'Cost sheet (private)'!C17) | D20: =IF('Cost sheet (private)'!D17="","",'Cost sheet (private)'!D17) | E20: =IF('Cost sheet (private)'!B17="","",'Cost sheet (private)'!I17) | F20: =IF('Cost sheet (private)'!B17="","",'Cost sheet (private)'!J17)
A21: =IF('Cost sheet (private)'!A18="","",'Cost sheet (private)'!A18) | B21: =IF('Cost sheet (private)'!B18="","",'Cost sheet (private)'!B18) | C21: =IF('Cost sheet (private)'!C18="","",'Cost sheet (private)'!C18) | D21: =IF('Cost sheet (private)'!D18="","",'Cost sheet (private)'!D18) | E21: =IF('Cost sheet (private)'!B18="","",'Cost sheet (private)'!I18) | F21: =IF('Cost sheet (private)'!B18="","",'Cost sheet (private)'!J18)
A22: =IF('Cost sheet (private)'!A19="","",'Cost sheet (private)'!A19) | B22: =IF('Cost sheet (private)'!B19="","",'Cost sheet (private)'!B19) | C22: =IF('Cost sheet (private)'!C19="","",'Cost sheet (private)'!C19) | D22: =IF('Cost sheet (private)'!D19="","",'Cost sheet (private)'!D19) | E22: =IF('Cost sheet (private)'!B19="","",'Cost sheet (private)'!I19) | F22: =IF('Cost sheet (private)'!B19="","",'Cost sheet (private)'!J19)
... A40: =IF('Cost sheet (private)'!A37="","",'Cost sheet (private)'!A37) | B40: =IF('Cost sheet (private)'!B37="","",'Cost sheet (private)'!B37) | C40: =IF('Cost sheet (private)'!C37="","",'Cost sheet (private)'!C37) | D40: =IF('Cost sheet (private)'!D37="","",'Cost sheet (private)'!D37) | E40: =IF('Cost sheet (private)'!B37="","",'Cost sheet (private)'!I37) | F40: =IF('Cost sheet (private)'!B37="","",'Cost sheet (private)'!J37)
A42: Subtotal | F42: =SUM(F11:F40)
A43: Less: discount (RM)
A44: SST rate (only if you are registered and it applies)
A45: SST | F45: =ROUND((F42-F43)*F44,2)
A46: TOTAL (RM) | F46: =F42-F43+F45
A48: Scope / exclusions
A50: Deposit and payment terms
A52: Completion / delivery period
A55: Accepted by client (name, signature, company stamp, date):
A56: Send this sheet to the client as a PDF (File, Save as / Export, PDF, this sheet only). Do not send the whole workbook: the cost sheet is in it.
